BEGIN:VCALENDAR
VERSION:2.0
PRODID:-//Building Tomorrow - ECPv6.15.20//NONSGML v1.0//EN
CALSCALE:GREGORIAN
METHOD:PUBLISH
X-WR-CALNAME:Building Tomorrow
X-ORIGINAL-URL:https://building-tomorrow.ca
X-WR-CALDESC:Events for Building Tomorrow
REFRESH-INTERVAL;VALUE=DURATION:PT1H
X-Robots-Tag:noindex
X-PUBLISHED-TTL:PT1H
BEGIN:VTIMEZONE
TZID:UTC
BEGIN:STANDARD
TZOFFSETFROM:+0000
TZOFFSETTO:+0000
TZNAME:UTC
DTSTART:20210101T000000
END:STANDARD
END:VTIMEZONE
BEGIN:VEVENT
DTSTART;TZID=UTC:20220218T130000
DTEND;TZID=UTC:20220218T143000
DTSTAMP:20260420T113436
CREATED:20220210T185557Z
LAST-MODIFIED:20240116T133619Z
UID:2157-1645189200-1645194600@building-tomorrow.ca
SUMMARY:Let's Talk about Equity and Anti-Racism Issues - Community Engagement Session
DESCRIPTION:The Nova Scotia Office of Equity and Anti-Racism Initiatives (OEA) and the Cape Breton Partnership invite Cape Breton – Unama’ki residents and businesses to join us for an open virtual discussion on the proposed legislation on equity and anti-racism poised to be introduced in the spring session of the legislature. \nThis legislation intends to have a positive impact on government policy outcomes affecting various aspects of Nova Scotians’ lives and input/feedback directly from our communities will be key in ensuring the legislation is strong and effective. \nIf you have any questions\, please email info@capebretonpartnership.com
URL:https://building-tomorrow.ca/events/lets-talk-about-equity-and-anti-racism-issues-community-engagement-session/
LOCATION:Virtual
CATEGORIES:Community Information Session
ATTACH;FMTTYPE=image/png:https://building-tomorrow.ca/wp-content/uploads/2022/02/Post.png
END:VEVENT
BEGIN:VEVENT
DTSTART;TZID=UTC:20220224T100000
DTEND;TZID=UTC:20220224T120000
DTSTAMP:20260420T113436
CREATED:20220211T151018Z
LAST-MODIFIED:20240116T133619Z
UID:2161-1645696800-1645704000@building-tomorrow.ca
SUMMARY:Procurement Information Session – Selling to Government
DESCRIPTION:Join Service Nova Scotia and Internal Services\, Procurement Assistance Canada (PAC)\, and the Cape Breton Partnership for an informational webinar for local businesses who are interested in learning the procurement process and how local businesses can sell to government on Thursday\, February 24\, 2022 at 10 a.m. via Zoom. \nThe session will feature Alexa Vodicka\, Project Coordinator-Procurement Engagement\, Service Nova Scotia and Internal Services\, and Paul Gérin\, Outreach Officer\, Procurement Assistance Canada. \nAttendees will explore a number of topics focused on procurement and selling to both the Provincial and Federal Governments\, including \n\ne-Procurement\nStanding offers\nMarketing to government\nhigh/low value opportunities\nhow the government buys goods and services\nhow to access resources\, tools and free supports\n\nIf you have any questions\, please email info@capebretonpartnership.com. \n  \nREGISTER NOW \n 
URL:https://building-tomorrow.ca/events/procurement-information-session-selling-to-government/
LOCATION:Virtual
CATEGORIES:Businesses & Supplier Opportunities,Community Information Session
ATTACH;FMTTYPE=image/png:https://building-tomorrow.ca/wp-content/uploads/2022/02/Post-1.png
END:VEVENT
END:VCALENDAR