BEGIN:VCALENDAR
VERSION:2.0
PRODID:-//Building Tomorrow - ECPv6.15.20//NONSGML v1.0//EN
CALSCALE:GREGORIAN
METHOD:PUBLISH
X-WR-CALNAME:Building Tomorrow
X-ORIGINAL-URL:https://building-tomorrow.ca
X-WR-CALDESC:Events for Building Tomorrow
REFRESH-INTERVAL;VALUE=DURATION:PT1H
X-Robots-Tag:noindex
X-PUBLISHED-TTL:PT1H
BEGIN:VTIMEZONE
TZID:UTC
BEGIN:STANDARD
TZOFFSETFROM:+0000
TZOFFSETTO:+0000
TZNAME:UTC
DTSTART:20200101T000000
END:STANDARD
END:VTIMEZONE
BEGIN:VEVENT
DTSTART;TZID=UTC:20210804T120000
DTEND;TZID=UTC:20210804T140000
DTSTAMP:20260422T115404
CREATED:20210803T124404Z
LAST-MODIFIED:20240116T133621Z
UID:1920-1628078400-1628085600@building-tomorrow.ca
SUMMARY:Architectural Sheet Metal Information Session
DESCRIPTION:The Nova Scotia Construction Sector Council welcomes you to a 1-hour information session to learn more or apply for the upcoming new Architectural Sheet Metal Program.  This training initiative is the first of its kind in Atlantic Canada! \n\nDate: Wednesday\, August 4th\n2 timeslots available:  12pm-1pm or 1pm-2pm\n\nWhat to expect: \n\nAn overview of Sheet Metal Workers and Roofers International Association\, Local 56\nAn overview of the Architectural Sheet Metal Program\nDemonstrations & Visuals\nOpportunity to register\nQuestion and Answer\n\nThis information session is open to organizations and interested potential applicants. \nFor more information\, visit the Cape Breton Job Board at: https://jobs.capebretonpartnership.com/jobs/361 \nPlease RSVP to sgraham@nscsc.ca by Friday\, July 30th no later than 4pm with your preferred time slot.
URL:https://building-tomorrow.ca/events/architectural-sheet-metal-information-session/
LOCATION:Nova Scotia
ATTACH;FMTTYPE=image/png:https://building-tomorrow.ca/wp-content/uploads/2021/08/arch-sheet-metal.png
ORGANIZER;CN="Nova Scotia Construction Sector Council":MAILTO:sgraham@nscsc.ca
END:VEVENT
BEGIN:VEVENT
DTSTART;TZID=UTC:20210824T083000
DTEND;TZID=UTC:20210824T123000
DTSTAMP:20260422T115404
CREATED:20210806T154718Z
LAST-MODIFIED:20240116T133621Z
UID:1932-1629793800-1629808200@building-tomorrow.ca
SUMMARY:CANS Course: CSA: Infection Control - CSA Z317.17
DESCRIPTION:Date:  August 24\, 25\, 26 & 27\, 2021 \nFormat: Instructor-led Live Course \nDuration: Four 3-hour sessions \nTime: 8:30am – 12:30pm \nPrice: $1\,500.00 + HST \n***This course is Gold Seal accredited (2 Credits)*** \nThis course is offered through CSA certified training persons. In order to meet the requirements\, persons are required to attend both sessions. \nClick here to register!\nFundamentals of Infection Control During Construction\, Renovation and Maintenance of Healthcare Facilities \nLearning Objectives: \n\n\n\nGain a general understanding of CSA Z317.17\nIdentify the risk factors and sources of health care facility infections\nIdentify all staff who should be involved in infection prevention and control measures during any aspect of construction\, renovation and maintenance activities\nReview effective infection prevention and control procedures during construction\, renovation and maintenance\nUnderstand and effectively apply infection prevention and control measures for renovation and or new construction projects\nLearn about industry best practices and how they can apply to your specific role\n\n\n\nEffective Implementation and Practical Applications of Infection Control During Construction\, Renovation and Maintenance of Health Care Facilities \nLearning Objectives: \n\n\n\nReview and understand all new components that have been added to the 2017 edition of the CSA Z317.17\nIdentify and learn to implement effective procedures during construction\, renovation and maintenance of health care facilities\nPractice real life application of the standard\nEngage in practical discussions around the appropriate actions to help mitigate risks and implement damage control procedures\nLearn how to apply innovative thinking in the field of infection prevention and control measure for new construction projects and/or significant additions\n\n\n\n Presented jointly with CSA Group \nClick here to register!
URL:https://building-tomorrow.ca/events/cans-course-csa-infection-control-csa-z317-17/
LOCATION:Virtual
CATEGORIES:Businesses & Supplier Opportunities
ATTACH;FMTTYPE=image/jpeg:https://building-tomorrow.ca/wp-content/uploads/2021/08/CSA-August2021-LearnMore.jpg
ORGANIZER;CN="Construction Association of Nova Scotia":MAILTO:cans@cans.ns.ca
END:VEVENT
END:VCALENDAR