BEGIN:VCALENDAR
VERSION:2.0
PRODID:-//Building Tomorrow - ECPv6.15.20//NONSGML v1.0//EN
CALSCALE:GREGORIAN
METHOD:PUBLISH
X-ORIGINAL-URL:https://building-tomorrow.ca
X-WR-CALDESC:Events for Building Tomorrow
REFRESH-INTERVAL;VALUE=DURATION:PT1H
X-Robots-Tag:noindex
X-PUBLISHED-TTL:PT1H
BEGIN:VTIMEZONE
TZID:UTC
BEGIN:STANDARD
TZOFFSETFROM:+0000
TZOFFSETTO:+0000
TZNAME:UTC
DTSTART:20210101T000000
END:STANDARD
END:VTIMEZONE
BEGIN:VEVENT
DTSTART;TZID=UTC:20220531T173000
DTEND;TZID=UTC:20220531T193000
DTSTAMP:20260420T192523
CREATED:20220513T171000Z
LAST-MODIFIED:20240116T133618Z
UID:2306-1654018200-1654025400@building-tomorrow.ca
SUMMARY:Cape Breton Healthcare Redevelopment Information Session: Northside Health Complex
DESCRIPTION:Join us for a community information session where we will be sharing updates and details on this significant project from architects and designers\, as well as team members from CBRM Health Care Redevelopment\, Nova Scotia Lands\, Nova Scotia Public Works\, Nova Scotia Construction Sector Council\, and the Cape Breton Partnership. \n\nTuesday\, May 31\, 2022\n5:30 p.m. to 7:30 p.m.\nEmera Centre Northside\n175 King Street\, North Sydney\, NS\n\nClick here to register! \nFor further information\, or to register by phone\, please call 902-567-6160. \n  \n\n\nAbout The Building Tomorrow Campaign\nBuilding Tomorrow is a campaign from the Cape Breton Partnership highlighting the five major projects underway that will revitalize the Island and put more people to work. For more information\, visit www.Building-Tomorrow.ca.
URL:https://building-tomorrow.ca/events/cape-breton-healthcare-redevelopment-information-session-northside-health-complex/
LOCATION:Emera Centre Northside\, 175 King Street\, North Sydney\, Nova Scotia\, B2A 3S1
CATEGORIES:Community Information Session
ATTACH;FMTTYPE=image/png:https://building-tomorrow.ca/wp-content/uploads/2022/05/Engagement-session.png
END:VEVENT
BEGIN:VEVENT
DTSTART;TZID=UTC:20221117T173000
DTEND;TZID=UTC:20221117T193000
DTSTAMP:20260420T192523
CREATED:20221102T141635Z
LAST-MODIFIED:20240116T133617Z
UID:2405-1668706200-1668713400@building-tomorrow.ca
SUMMARY:Cape Breton Regional Hospital Project Information Session
DESCRIPTION:Join us for a community information session where we will be sharing updates and details on the Cape Breton Regional Hospital project from architects and designers\, as well as team members from CBRM Health Care Redevelopment\, Nova Scotia Lands\, Nova Scotia Public Works\, Nova Scotia Construction Sector Council\, and the Cape Breton Partnership. \n\nThursday\, November 17\, 2022\n5:30 p.m. – 7:30 p.m.\nPort of Sydney\, 90 Esplanade\, Sydney\n\nClick here to register! \nFor more information or to register by phone\, call 902-567-6160. \n  \nAbout The Building Tomorrow Campaign\nBuilding Tomorrow is a campaign from the Cape Breton Partnership highlighting the five major projects underway that will revitalize the Island and put more people to work. For more information\, visit www.Building-Tomorrow.ca.
URL:https://building-tomorrow.ca/events/cape-breton-regional-hospital-project-information-session/
LOCATION:Port of Sydney\, 90 Esplanade\, Sydney\, Nova Scotia\, B1P 1A1\, Canada
CATEGORIES:Community Information Session
ATTACH;FMTTYPE=image/png:https://building-tomorrow.ca/wp-content/uploads/2022/11/BT-Infor-Session-Sydney-Social-Posts-1.png
END:VEVENT
END:VCALENDAR