BEGIN:VCALENDAR
VERSION:2.0
PRODID:-//Building Tomorrow - ECPv6.15.20//NONSGML v1.0//EN
CALSCALE:GREGORIAN
METHOD:PUBLISH
X-WR-CALNAME:Building Tomorrow
X-ORIGINAL-URL:https://building-tomorrow.ca
X-WR-CALDESC:Events for Building Tomorrow
REFRESH-INTERVAL;VALUE=DURATION:PT1H
X-Robots-Tag:noindex
X-PUBLISHED-TTL:PT1H
BEGIN:VTIMEZONE
TZID:UTC
BEGIN:STANDARD
TZOFFSETFROM:+0000
TZOFFSETTO:+0000
TZNAME:UTC
DTSTART:20210101T000000
END:STANDARD
END:VTIMEZONE
BEGIN:VEVENT
DTSTART;TZID=UTC:20220428T170000
DTEND;TZID=UTC:20220428T230000
DTSTAMP:20260420T174131
CREATED:20220110T211300Z
LAST-MODIFIED:20240116T133619Z
UID:2146-1651165200-1651186800@building-tomorrow.ca
SUMMARY:Construction Association of Nova Scotia Spring Fling 2022
DESCRIPTION:Save The Date:  Thursday\, April 28\, 2022 \nConstruction is booming in CBRM — celebrate that success with CANS! Build relationships with CANS Members in Cape Breton and foster new connections with potential partners and suppliers before your next project starts. On April 28\, join CANS in Cape Breton to kick off a busy construction season at our 2022 CANS Brandt Tractor Spring Fling! CANS annual Spring Fling is a fantastic way to celebrate the industry in CB\, giving you a chance to build your network and reward your team’s hard work with great food and entertainment from a local favourite\, Andrew Doyle! \nFor more information about CANS Spring Fling\, please contact Britney MacNeil\, Events Lead (Construction Association of Nova Scotia) at bmacneil@cans.ns.ca or 902-499-2939. \n 
URL:https://building-tomorrow.ca/events/construction-association-of-nova-scotia-spring-fling-2022/
LOCATION:Membertou Trade & Convention Centre\, 50 Maillard Street\, Membertou\, NS
CATEGORIES:Businesses & Supplier Opportunities,Community Information Session
ATTACH;FMTTYPE=image/jpeg:https://building-tomorrow.ca/wp-content/uploads/2022/01/2022SpringFlingPromo.jpg
ORGANIZER;CN="Construction Association of Nova Scotia":MAILTO:cans@cans.ns.ca
END:VEVENT
END:VCALENDAR