BEGIN:VCALENDAR
VERSION:2.0
PRODID:-//Building Tomorrow - ECPv6.15.20//NONSGML v1.0//EN
CALSCALE:GREGORIAN
METHOD:PUBLISH
X-ORIGINAL-URL:https://building-tomorrow.ca
X-WR-CALDESC:Events for Building Tomorrow
REFRESH-INTERVAL;VALUE=DURATION:PT1H
X-Robots-Tag:noindex
X-PUBLISHED-TTL:PT1H
BEGIN:VTIMEZONE
TZID:UTC
BEGIN:STANDARD
TZOFFSETFROM:+0000
TZOFFSETTO:+0000
TZNAME:UTC
DTSTART:20200101T000000
END:STANDARD
END:VTIMEZONE
BEGIN:VEVENT
DTSTART;TZID=UTC:20211213T180000
DTEND;TZID=UTC:20211213T200000
DTSTAMP:20260422T102109
CREATED:20211208T005837Z
LAST-MODIFIED:20240116T133619Z
UID:2107-1639418400-1639425600@building-tomorrow.ca
SUMMARY:Cape Breton Healthcare Redevelopment Information Session: New Waterford Community Hub
DESCRIPTION:Join us for a community information session where we will be sharing updates and details on this significant project. \n\nMonday\, December 13\, 2021\nSessions at 6 pm & 7 pm\nBreton Education Centre (Small Gymnasium)\, 667 Eighth Street\, New Waterford\, NS\n\nWhen registering\, you will be able to choose either the 6pm – 7pm session\, or the 7pm – 8pm session. Each session will be limited. \nPre-registration is required to attend\, and proof of vaccination is required upon entry. For further information\, or to register by phone\, please call 902-567-6160. \nRegister here!
URL:https://building-tomorrow.ca/events/cape-breton-healthcare-redevelopment-information-session-new-waterford-community-hub/
LOCATION:Breton Education Centre Gymnasium (Small Gymnasium)\, 667 Eighth Street\, New Waterford\, Nova Scotia\, Canada
CATEGORIES:Community Information Session
ATTACH;FMTTYPE=image/png:https://building-tomorrow.ca/wp-content/uploads/2021/12/Banner-Draft.png
END:VEVENT
END:VCALENDAR