BEGIN:VCALENDAR
VERSION:2.0
PRODID:-//Building Tomorrow - ECPv6.15.20//NONSGML v1.0//EN
CALSCALE:GREGORIAN
METHOD:PUBLISH
X-WR-CALNAME:Building Tomorrow
X-ORIGINAL-URL:https://building-tomorrow.ca
X-WR-CALDESC:Events for Building Tomorrow
REFRESH-INTERVAL;VALUE=DURATION:PT1H
X-Robots-Tag:noindex
X-PUBLISHED-TTL:PT1H
BEGIN:VTIMEZONE
TZID:UTC
BEGIN:STANDARD
TZOFFSETFROM:+0000
TZOFFSETTO:+0000
TZNAME:UTC
DTSTART:20200101T000000
END:STANDARD
END:VTIMEZONE
BEGIN:VEVENT
DTSTART;TZID=UTC:20210224T100000
DTEND;TZID=UTC:20210224T113000
DTSTAMP:20260423T074241
CREATED:20210201T174302Z
LAST-MODIFIED:20240116T133626Z
UID:1853-1614160800-1614166200@building-tomorrow.ca
SUMMARY:Webinar: Navigating the E-Bidding System
DESCRIPTION:The Province of Nova Scotia\, in collaboration with the Cape Breton Partnership\, proudly hosts a series of information sessions focused on Supplier Opportunities stemming from the upcoming public infrastructure projects planned for Cape Breton Island over the next number of years. \nThese projects represent an unprecedented level of investment in Cape Breton Island and significant opportunities for our residents and business community. Together\, these projects will create jobs\, opportunities for workforce training for underrepresented groups\, and direct benefits to local businesses\, communities\, and the economy. \nThe third session in our information series\, “Navigating the E-Bidding System” occurred on February 24. This session gave attendees a greater understanding of how to bid on Government of Nova Scotia tender opportunities\, including: \n\nHow to register in Ariba;\nHow to prepare documents;\nHow to respond and bid on opportunities;\nHow to navigate in Ariba; and\nHow to access help.
URL:https://building-tomorrow.ca/events/webinar-navigating-the-e-bidding-system/
LOCATION:Virtual
CATEGORIES:Businesses & Supplier Opportunities
ATTACH;FMTTYPE=image/png:https://building-tomorrow.ca/wp-content/uploads/2021/07/Copy-of-save-the-date-Supplier-Opportunities-for-Cape-Breton-Businesses-2.png
END:VEVENT
END:VCALENDAR