BEGIN:VCALENDAR
VERSION:2.0
PRODID:-//Building Tomorrow - ECPv6.15.20//NONSGML v1.0//EN
CALSCALE:GREGORIAN
METHOD:PUBLISH
X-WR-CALNAME:Building Tomorrow
X-ORIGINAL-URL:https://building-tomorrow.ca
X-WR-CALDESC:Events for Building Tomorrow
REFRESH-INTERVAL;VALUE=DURATION:PT1H
X-Robots-Tag:noindex
X-PUBLISHED-TTL:PT1H
BEGIN:VTIMEZONE
TZID:UTC
BEGIN:STANDARD
TZOFFSETFROM:+0000
TZOFFSETTO:+0000
TZNAME:UTC
DTSTART:20200101T000000
END:STANDARD
END:VTIMEZONE
BEGIN:VEVENT
DTSTART;TZID=UTC:20210217T100000
DTEND;TZID=UTC:20210217T113000
DTSTAMP:20260423T105625
CREATED:20210201T173956Z
LAST-MODIFIED:20240116T133626Z
UID:1849-1613556000-1613561400@building-tomorrow.ca
SUMMARY:Webinar: Introduction to Selling to Government
DESCRIPTION:The Province of Nova Scotia\, in collaboration with the Cape Breton Partnership\, proudly hosts a series of information sessions focused on Supplier Opportunities stemming from the upcoming public infrastructure projects planned for Cape Breton Island over the next number of years. \nThese projects represent an unprecedented level of investment in Cape Breton Island and significant opportunities for our residents and business community. Together\, these projects will create jobs\, opportunities for workforce training for underrepresented groups\, and direct benefits to local businesses\, communities\, and the economy. \nThrough a comprehensive overview of the public sector marketplace in Nova Scotia\, attendees of this session received a sound understanding of procurement in the government context. \nAttendees learned information on: \n\nWhere to find opportunities;\nThe importance of Ariba Discovery (e-bidding system);\nTender Opportunity Notification Service (TONS);\nTender procedures and processes;\nThe importance of building networks to promote your business; and\nUnderstanding the Debrief Process.\n\nThe next session in this series is Navigating the E-Bidding System for Suppliers (February 24\, 2021).
URL:https://building-tomorrow.ca/events/webinar-introduction-to-selling-to-government/
LOCATION:Virtual
CATEGORIES:Businesses & Supplier Opportunities
ATTACH;FMTTYPE=image/png:https://building-tomorrow.ca/wp-content/uploads/2021/07/Copy-of-save-the-date-Supplier-Opportunities-for-Cape-Breton-Businesses-1.png
END:VEVENT
END:VCALENDAR